Package: VplotR Version: 1.18.0 Command: /Library/Frameworks/R.framework/Resources/bin/R CMD INSTALL VplotR StartedAt: 2025-04-21 15:37:37 -0400 (Mon, 21 Apr 2025) EndedAt: 2025-04-21 15:38:17 -0400 (Mon, 21 Apr 2025) EllapsedTime: 40.1 seconds RetCode: 0 Status: OK