Package: VplotR Version: 1.18.0 Command: /Library/Frameworks/R.framework/Resources/bin/R CMD build --keep-empty-dirs --no-resave-data VplotR StartedAt: 2025-04-21 18:50:11 -0400 (Mon, 21 Apr 2025) EndedAt: 2025-04-21 18:52:18 -0400 (Mon, 21 Apr 2025) EllapsedTime: 126.8 seconds RetCode: 0 Status: OK PackageFile: VplotR_1.18.0.tar.gz PackageFileSize: 5.163 MiB