Package: VplotR Version: 1.18.0 Maintainer: Jacques Serizay MaintainerEmail: jacquesserizay at gmail.com git_url: https://git.bioconductor.org/packages/VplotR git_branch: RELEASE_3_21 git_last_commit: 2fddd47 git_last_commit_date: 2025-04-15 12:07:04 -0400 (Tue, 15 Apr 2025)