Package: VCFArray Version: 1.24.0 Maintainer: Qian Liu MaintainerEmail: qliu7 at buffalo.edu git_url: https://git.bioconductor.org/packages/VCFArray git_branch: RELEASE_3_21 git_last_commit: b36ef19 git_last_commit_date: 2025-04-15 11:39:54 -0400 (Tue, 15 Apr 2025)