Package: TileDBArray Version: 1.18.0 Maintainer: Aaron Lun MaintainerEmail: infinite.monkeys.with.keyboards at gmail.com git_url: https://git.bioconductor.org/packages/TileDBArray git_branch: RELEASE_3_21 git_last_commit: 24d61dd git_last_commit_date: 2025-04-15 12:09:08 -0400 (Tue, 15 Apr 2025)