Package: SubCellBarCode Version: 1.24.0 Command: /Library/Frameworks/R.framework/Resources/bin/R CMD check --install=check:SubCellBarCode.install-out.txt --library=/Library/Frameworks/R.framework/Resources/library --no-vignettes --timings SubCellBarCode_1.24.0.tar.gz StartedAt: 2025-04-21 21:59:25 -0400 (Mon, 21 Apr 2025) EndedAt: 2025-04-21 22:00:51 -0400 (Mon, 21 Apr 2025) EllapsedTime: 86.1 seconds RetCode: 0 Status: OK CheckDir: SubCellBarCode.Rcheck Warnings: 0