Package: SubCellBarCode Version: 1.24.0 Command: /Library/Frameworks/R.framework/Resources/bin/R CMD build --keep-empty-dirs --no-resave-data SubCellBarCode StartedAt: 2025-04-21 17:48:41 -0400 (Mon, 21 Apr 2025) EndedAt: 2025-04-21 17:50:21 -0400 (Mon, 21 Apr 2025) EllapsedTime: 100.2 seconds RetCode: 0 Status: OK PackageFile: SubCellBarCode_1.24.0.tar.gz PackageFileSize: 2.335 MiB