Package: SubCellBarCode Version: 1.24.0 Command: rm -rf SubCellBarCode.buildbin-libdir && mkdir SubCellBarCode.buildbin-libdir && /Users/biocbuild/BBS/utils/build-universal.sh SubCellBarCode_1.24.0.tar.gz /Library/Frameworks/R.framework/Resources/bin/R SubCellBarCode.buildbin-libdir StartedAt: 2025-04-21 22:54:23 -0400 (Mon, 21 Apr 2025) EndedAt: 2025-04-21 22:54:34 -0400 (Mon, 21 Apr 2025) EllapsedTime: 10.2 seconds RetCode: 0 Status: OK PackageFile: SubCellBarCode_1.24.0.tgz PackageFileSize: 2.737 MiB