Package: SubCellBarCode Version: 1.24.0 Maintainer: Taner Arslan MaintainerEmail: taner.arslan at ki.se git_url: https://git.bioconductor.org/packages/SubCellBarCode git_branch: RELEASE_3_21 git_last_commit: fd4fea3 git_last_commit_date: 2025-04-15 11:46:29 -0400 (Tue, 15 Apr 2025)