Package: SharedObject Version: 1.22.0 Maintainer: Jiefei Wang MaintainerEmail: szwjf08 at gmail.com git_url: https://git.bioconductor.org/packages/SharedObject git_branch: RELEASE_3_21 git_last_commit: 4beeb17 git_last_commit_date: 2025-04-15 11:49:51 -0400 (Tue, 15 Apr 2025)