Package: SCArray.sat Version: 1.8.0 Maintainer: Xiuwen Zheng MaintainerEmail: xiuwen.zheng at abbvie.com git_url: https://git.bioconductor.org/packages/SCArray.sat git_branch: RELEASE_3_21 git_last_commit: 108b01c git_last_commit_date: 2025-04-15 13:12:12 -0400 (Tue, 15 Apr 2025)