Package: Rvisdiff Version: 1.6.0 Command: E:\biocbuild\bbs-3.21-bioc\R\bin\R.exe CMD check --no-multiarch --install=check:Rvisdiff.install-out.txt --library=E:\biocbuild\bbs-3.21-bioc\R\library --no-vignettes --timings Rvisdiff_1.6.0.tar.gz StartedAt: 2025-04-23 06:13:01 -0400 (Wed, 23 Apr 2025) EndedAt: 2025-04-23 06:16:32 -0400 (Wed, 23 Apr 2025) EllapsedTime: 210.6 seconds RetCode: 0 Status: OK CheckDir: Rvisdiff.Rcheck Warnings: 0