Package: Rvisdiff Version: 1.6.0 Command: chmod a+r Rvisdiff -R && E:\biocbuild\bbs-3.21-bioc\R\bin\R.exe CMD build --keep-empty-dirs --no-resave-data Rvisdiff StartedAt: 2025-04-22 22:03:16 -0400 (Tue, 22 Apr 2025) EndedAt: 2025-04-22 22:04:39 -0400 (Tue, 22 Apr 2025) EllapsedTime: 83.1 seconds RetCode: 0 Status: OK PackageFile: Rvisdiff_1.6.0.tar.gz PackageFileSize: 1.314 MiB