Package: Rvisdiff Version: 1.6.0 Command: rm -rf Rvisdiff.buildbin-libdir && mkdir Rvisdiff.buildbin-libdir && E:\biocbuild\bbs-3.21-bioc\R\bin\R.exe CMD INSTALL --build --library=Rvisdiff.buildbin-libdir Rvisdiff_1.6.0.tar.gz StartedAt: 2025-04-23 10:00:00 -0400 (Wed, 23 Apr 2025) EndedAt: 2025-04-23 10:00:11 -0400 (Wed, 23 Apr 2025) EllapsedTime: 10.6 seconds RetCode: 0 Status: OK PackageFile: Rvisdiff_1.6.0.zip PackageFileSize: 948.3 KiB