Package: ReactomeGSA Version: 1.22.0 Maintainer: Johannes Griss MaintainerEmail: johannes.griss at meduniwien.ac.at git_url: https://git.bioconductor.org/packages/ReactomeGSA git_branch: RELEASE_3_21 git_last_commit: 6e8adbb git_last_commit_date: 2025-04-15 11:49:59 -0400 (Tue, 15 Apr 2025)