Package: MultiDataSet Version: 1.36.0 Maintainer: Xavier EscribĂ  Montagut MaintainerEmail: xavier.escriba at isglobal.org git_url: https://git.bioconductor.org/packages/MultiDataSet git_branch: RELEASE_3_21 git_last_commit: 40d0a0a git_last_commit_date: 2025-04-15 11:01:31 -0400 (Tue, 15 Apr 2025)