Package: MsBackendRawFileReader Version: 1.14.0 Command: /home/biocbuild/bbs-3.21-bioc/R/bin/R CMD INSTALL MsBackendRawFileReader StartedAt: 2025-04-23 15:18:48 -0400 (Wed, 23 Apr 2025) EndedAt: 2025-04-23 15:18:59 -0400 (Wed, 23 Apr 2025) EllapsedTime: 11.5 seconds RetCode: 0 Status: OK