Package: MsBackendRawFileReader Version: 1.14.0 Command: /home/biocbuild/bbs-3.21-bioc/R/bin/R CMD check --install=check:MsBackendRawFileReader.install-out.txt --library=/home/biocbuild/bbs-3.21-bioc/R/site-library --timings MsBackendRawFileReader_1.14.0.tar.gz StartedAt: 2025-04-24 00:36:12 -0400 (Thu, 24 Apr 2025) EndedAt: 2025-04-24 00:40:52 -0400 (Thu, 24 Apr 2025) EllapsedTime: 279.4 seconds RetCode: 0 Status: OK CheckDir: MsBackendRawFileReader.Rcheck Warnings: 0