Package: MsBackendRawFileReader Version: 1.14.0 Command: /home/biocbuild/bbs-3.21-bioc/R/bin/R CMD build --keep-empty-dirs --no-resave-data MsBackendRawFileReader StartedAt: 2025-04-23 18:19:32 -0400 (Wed, 23 Apr 2025) EndedAt: 2025-04-23 18:21:18 -0400 (Wed, 23 Apr 2025) EllapsedTime: 106.1 seconds RetCode: 0 Status: OK PackageFile: MsBackendRawFileReader_1.14.0.tar.gz PackageFileSize: 1.595 MiB