Package: GraphAlignment Version: 1.72.0 Command: /home/biocbuild/bbs-3.21-bioc/R/bin/R CMD INSTALL GraphAlignment StartedAt: 2025-04-30 15:08:33 -0400 (Wed, 30 Apr 2025) EndedAt: 2025-04-30 15:09:08 -0400 (Wed, 30 Apr 2025) EllapsedTime: 35.8 seconds RetCode: 0 Status: OK