Package: GraphAlignment Version: 1.72.0 Command: /home/biocbuild/bbs-3.21-bioc/R/bin/R CMD check --install=check:GraphAlignment.install-out.txt --library=/home/biocbuild/bbs-3.21-bioc/R/site-library --timings GraphAlignment_1.72.0.tar.gz StartedAt: 2025-04-30 23:01:41 -0400 (Wed, 30 Apr 2025) EndedAt: 2025-04-30 23:02:00 -0400 (Wed, 30 Apr 2025) EllapsedTime: 19.0 seconds RetCode: 0 Status: WARNINGS CheckDir: GraphAlignment.Rcheck Warnings: 1