Package: GraphAlignment Version: 1.72.0 Command: /home/biocbuild/bbs-3.21-bioc/R/bin/R CMD build --keep-empty-dirs --no-resave-data GraphAlignment StartedAt: 2025-04-30 17:31:13 -0400 (Wed, 30 Apr 2025) EndedAt: 2025-04-30 17:31:20 -0400 (Wed, 30 Apr 2025) EllapsedTime: 7.0 seconds RetCode: 0 Status: OK PackageFile: GraphAlignment_1.72.0.tar.gz PackageFileSize: 591.5 KiB