Package: GraphAlignment Version: 1.72.0 Command: /Library/Frameworks/R.framework/Resources/bin/R CMD INSTALL GraphAlignment StartedAt: 2025-04-21 15:07:47 -0400 (Mon, 21 Apr 2025) EndedAt: 2025-04-21 15:08:35 -0400 (Mon, 21 Apr 2025) EllapsedTime: 47.6 seconds RetCode: 0 Status: OK