Package: GraphAlignment Version: 1.72.0 Command: /Library/Frameworks/R.framework/Resources/bin/R CMD check --install=check:GraphAlignment.install-out.txt --library=/Library/Frameworks/R.framework/Resources/library --no-vignettes --timings GraphAlignment_1.72.0.tar.gz StartedAt: 2025-04-21 21:06:59 -0400 (Mon, 21 Apr 2025) EndedAt: 2025-04-21 21:07:27 -0400 (Mon, 21 Apr 2025) EllapsedTime: 27.8 seconds RetCode: 0 Status: OK CheckDir: GraphAlignment.Rcheck Warnings: 0