Package: GraphAlignment Version: 1.72.0 Command: /Library/Frameworks/R.framework/Resources/bin/R CMD build --keep-empty-dirs --no-resave-data GraphAlignment StartedAt: 2025-04-21 17:00:46 -0400 (Mon, 21 Apr 2025) EndedAt: 2025-04-21 17:00:59 -0400 (Mon, 21 Apr 2025) EllapsedTime: 12.6 seconds RetCode: 0 Status: OK PackageFile: GraphAlignment_1.72.0.tar.gz PackageFileSize: 591.1 KiB