Package: GraphAlignment Version: 1.72.0 Command: rm -rf GraphAlignment.buildbin-libdir && mkdir GraphAlignment.buildbin-libdir && /Users/biocbuild/BBS/utils/build-universal.sh GraphAlignment_1.72.0.tar.gz /Library/Frameworks/R.framework/Resources/bin/R GraphAlignment.buildbin-libdir StartedAt: 2025-04-22 00:48:41 -0400 (Tue, 22 Apr 2025) EndedAt: 2025-04-22 00:48:52 -0400 (Tue, 22 Apr 2025) EllapsedTime: 10.4 seconds RetCode: 0 Status: OK PackageFile: GraphAlignment_1.72.0.tgz PackageFileSize: 576.7 KiB