Package: GraphAlignment Version: 1.72.0 Command: /home/biocbuild/R/R/bin/R CMD INSTALL GraphAlignment StartedAt: 2025-04-21 20:17:59 -0000 (Mon, 21 Apr 2025) EndedAt: 2025-04-21 20:18:43 -0000 (Mon, 21 Apr 2025) EllapsedTime: 44.8 seconds RetCode: 0 Status: OK