Package: GraphAlignment Version: 1.72.0 Command: /home/biocbuild/R/R/bin/R CMD check --install=check:GraphAlignment.install-out.txt --library=/home/biocbuild/R/R/site-library --no-vignettes --timings GraphAlignment_1.72.0.tar.gz StartedAt: 2025-04-22 09:41:19 -0000 (Tue, 22 Apr 2025) EndedAt: 2025-04-22 09:41:36 -0000 (Tue, 22 Apr 2025) EllapsedTime: 17.0 seconds RetCode: 0 Status: OK CheckDir: GraphAlignment.Rcheck Warnings: 0