Package: GraphAlignment Version: 1.72.0 Command: /home/biocbuild/R/R/bin/R CMD build --keep-empty-dirs --no-resave-data GraphAlignment StartedAt: 2025-04-22 01:17:43 -0000 (Tue, 22 Apr 2025) EndedAt: 2025-04-22 01:17:51 -0000 (Tue, 22 Apr 2025) EllapsedTime: 8.0 seconds RetCode: 0 Status: OK PackageFile: GraphAlignment_1.72.0.tar.gz PackageFileSize: 575.9 KiB