Package: GeomxTools Version: 3.12.0 Maintainer: Maddy Griswold MaintainerEmail: mgriswold at nanostring.com git_url: https://git.bioconductor.org/packages/GeomxTools git_branch: RELEASE_3_21 git_last_commit: 3a6397f git_last_commit_date: 2025-04-15 12:18:06 -0400 (Tue, 15 Apr 2025)