Package: DelayedTensor Version: 1.14.0 Maintainer: Koki Tsuyuzaki MaintainerEmail: k.t.the-answer at hotmail.co.jp git_url: https://git.bioconductor.org/packages/DelayedTensor git_branch: RELEASE_3_21 git_last_commit: 85b592f git_last_commit_date: 2025-04-15 12:33:33 -0400 (Tue, 15 Apr 2025)