Package: DelayedRandomArray Version: 1.16.0 Command: /home/biocbuild/R/R/bin/R CMD check --install=check:DelayedRandomArray.install-out.txt --library=/home/biocbuild/R/R/site-library --no-vignettes --timings DelayedRandomArray_1.16.0.tar.gz StartedAt: 2025-04-22 08:10:58 -0000 (Tue, 22 Apr 2025) EndedAt: 2025-04-22 08:14:36 -0000 (Tue, 22 Apr 2025) EllapsedTime: 218.1 seconds RetCode: 0 Status: OK CheckDir: DelayedRandomArray.Rcheck Warnings: 0