Package: DelayedRandomArray Version: 1.16.0 Command: rm -rf DelayedRandomArray.buildbin-libdir && mkdir DelayedRandomArray.buildbin-libdir && /Users/biocbuild/BBS/utils/build-universal.sh DelayedRandomArray_1.16.0.tar.gz /Library/Frameworks/R.framework/Resources/bin/R DelayedRandomArray.buildbin-libdir StartedAt: 2025-04-21 22:32:35 -0400 (Mon, 21 Apr 2025) EndedAt: 2025-04-21 22:32:48 -0400 (Mon, 21 Apr 2025) EllapsedTime: 13.3 seconds RetCode: 0 Status: OK PackageFile: DelayedRandomArray_1.16.0.tgz PackageFileSize: 674.9 KiB