Package: DelayedDataFrame Version: 1.24.0 Command: /Library/Frameworks/R.framework/Resources/bin/R CMD INSTALL DelayedDataFrame StartedAt: 2025-04-21 15:16:19 -0400 (Mon, 21 Apr 2025) EndedAt: 2025-04-21 15:16:44 -0400 (Mon, 21 Apr 2025) EllapsedTime: 25.6 seconds RetCode: 0 Status: OK