Package: DelayedDataFrame Version: 1.24.0 Command: /Library/Frameworks/R.framework/Resources/bin/R CMD check --install=check:DelayedDataFrame.install-out.txt --library=/Library/Frameworks/R.framework/Resources/library --no-vignettes --timings DelayedDataFrame_1.24.0.tar.gz StartedAt: 2025-04-21 20:12:48 -0400 (Mon, 21 Apr 2025) EndedAt: 2025-04-21 20:15:09 -0400 (Mon, 21 Apr 2025) EllapsedTime: 140.7 seconds RetCode: 0 Status: OK CheckDir: DelayedDataFrame.Rcheck Warnings: 0