Package: DelayedDataFrame Version: 1.24.0 Command: /home/biocbuild/R/R/bin/R CMD INSTALL DelayedDataFrame StartedAt: 2025-04-21 20:36:14 -0000 (Mon, 21 Apr 2025) EndedAt: 2025-04-21 20:36:41 -0000 (Mon, 21 Apr 2025) EllapsedTime: 26.2 seconds RetCode: 0 Status: OK