Package: DelayedDataFrame Version: 1.24.0 Command: /home/biocbuild/R/R/bin/R CMD build --keep-empty-dirs --no-resave-data DelayedDataFrame StartedAt: 2025-04-22 00:07:20 -0000 (Tue, 22 Apr 2025) EndedAt: 2025-04-22 00:08:04 -0000 (Tue, 22 Apr 2025) EllapsedTime: 44.0 seconds RetCode: 0 Status: OK PackageFile: DelayedDataFrame_1.24.0.tar.gz PackageFileSize: 551.5 KiB