Package: DelayedArray Version: 0.34.1 Maintainer: Hervé Pagès MaintainerEmail: hpages.on.github at gmail.com git_url: https://git.bioconductor.org/packages/DelayedArray git_branch: RELEASE_3_21 git_last_commit: 93033ab git_last_commit_date: 2025-04-17 13:33:44 -0400 (Thu, 17 Apr 2025)