Package: CytoPipelineGUI Version: 1.6.0 Maintainer: Philippe Hauchamps MaintainerEmail: philippe.hauchamps at uclouvain.be git_url: https://git.bioconductor.org/packages/CytoPipelineGUI git_branch: RELEASE_3_21 git_last_commit: 8514162 git_last_commit_date: 2025-04-15 13:20:20 -0400 (Tue, 15 Apr 2025)