Package: CoverageView Version: 1.46.0 Maintainer: Ernesto Lowy MaintainerEmail: ernestolowy at gmail.com git_url: https://git.bioconductor.org/packages/CoverageView git_branch: RELEASE_3_21 git_last_commit: df0eab6 git_last_commit_date: 2025-04-15 10:30:35 -0400 (Tue, 15 Apr 2025)