Package: ConsensusClusterPlus Version: 1.72.0 Maintainer: Matt Wilkerson MaintainerEmail: mdwilkerson at outlook.com git_url: https://git.bioconductor.org/packages/ConsensusClusterPlus git_branch: RELEASE_3_21 git_last_commit: 901e95d git_last_commit_date: 2025-04-15 09:46:36 -0400 (Tue, 15 Apr 2025)