Package: ClassifyR Version: 3.12.0 Maintainer: Dario Strbenac MaintainerEmail: dario.strbenac at sydney.edu.au git_url: https://git.bioconductor.org/packages/ClassifyR git_branch: RELEASE_3_21 git_last_commit: f3e8aad git_last_commit_date: 2025-04-15 10:32:58 -0400 (Tue, 15 Apr 2025)