Package: BioMVCClass Version: 1.76.0 Command: /home/biocbuild/bbs-3.21-bioc/R/bin/R CMD INSTALL BioMVCClass StartedAt: 2025-04-27 15:13:55 -0400 (Sun, 27 Apr 2025) EndedAt: 2025-04-27 15:13:59 -0400 (Sun, 27 Apr 2025) EllapsedTime: 4.0 seconds RetCode: 0 Status: OK