Package: BioMVCClass Version: 1.76.0 Command: /home/biocbuild/bbs-3.21-bioc/R/bin/R CMD build --keep-empty-dirs --no-resave-data BioMVCClass StartedAt: 2025-04-27 16:21:22 -0400 (Sun, 27 Apr 2025) EndedAt: 2025-04-27 16:21:29 -0400 (Sun, 27 Apr 2025) EllapsedTime: 7.0 seconds RetCode: 0 Status: OK PackageFile: BioMVCClass_1.76.0.tar.gz PackageFileSize: 131.3 KiB