Package: BioMVCClass Version: 1.76.0 Command: /Library/Frameworks/R.framework/Resources/bin/R CMD INSTALL BioMVCClass StartedAt: 2025-04-21 15:17:10 -0400 (Mon, 21 Apr 2025) EndedAt: 2025-04-21 15:17:18 -0400 (Mon, 21 Apr 2025) EllapsedTime: 7.5 seconds RetCode: 0 Status: OK