Package: BioMVCClass Version: 1.76.0 Command: /Library/Frameworks/R.framework/Resources/bin/R CMD build --keep-empty-dirs --no-resave-data BioMVCClass StartedAt: 2025-04-21 16:06:07 -0400 (Mon, 21 Apr 2025) EndedAt: 2025-04-21 16:06:19 -0400 (Mon, 21 Apr 2025) EllapsedTime: 12.6 seconds RetCode: 0 Status: OK PackageFile: BioMVCClass_1.76.0.tar.gz PackageFileSize: 131.4 KiB