Package: BioMVCClass Version: 1.76.0 Command: rm -rf BioMVCClass.buildbin-libdir && mkdir BioMVCClass.buildbin-libdir && /Users/biocbuild/BBS/utils/build-universal.sh BioMVCClass_1.76.0.tar.gz /Library/Frameworks/R.framework/Resources/bin/R BioMVCClass.buildbin-libdir StartedAt: 2025-04-22 00:35:33 -0400 (Tue, 22 Apr 2025) EndedAt: 2025-04-22 00:35:44 -0400 (Tue, 22 Apr 2025) EllapsedTime: 10.6 seconds RetCode: 0 Status: OK PackageFile: BioMVCClass_1.76.0.tgz PackageFileSize: 144.8 KiB