Package: BioMVCClass Version: 1.76.0 Command: /home/biocbuild/R/R/bin/R CMD INSTALL BioMVCClass StartedAt: 2025-04-21 20:26:23 -0000 (Mon, 21 Apr 2025) EndedAt: 2025-04-21 20:26:29 -0000 (Mon, 21 Apr 2025) EllapsedTime: 5.4 seconds RetCode: 0 Status: OK