Package: BioMVCClass Version: 1.76.0 Command: /home/biocbuild/R/R/bin/R CMD build --keep-empty-dirs --no-resave-data BioMVCClass StartedAt: 2025-04-21 23:06:01 -0000 (Mon, 21 Apr 2025) EndedAt: 2025-04-21 23:06:09 -0000 (Mon, 21 Apr 2025) EllapsedTime: 8.0 seconds RetCode: 0 Status: OK PackageFile: BioMVCClass_1.76.0.tar.gz PackageFileSize: 129 KiB