Package: simpIntLists Version: 1.42.0 Command: /home/biocbuild/bbs-3.20-bioc/R/bin/R CMD check --install=check:simpIntLists.install-out.txt --library=/home/biocbuild/bbs-3.20-bioc/R/site-library --timings simpIntLists_1.42.0.tar.gz StartedAt: 2025-04-01 12:36:19 -0400 (Tue, 01 Apr 2025) EndedAt: 2025-04-01 12:37:10 -0400 (Tue, 01 Apr 2025) EllapsedTime: 51.7 seconds RetCode: 0 Status: WARNINGS CheckDir: simpIntLists.Rcheck Warnings: 1